BEGIN:VCALENDAR
VERSION:2.0
PRODID:-//Grandbaleeser 2020 - ECPv6.15.20//NONSGML v1.0//EN
CALSCALE:GREGORIAN
METHOD:PUBLISH
X-ORIGINAL-URL:https://www.grandbaleeser.ch
X-WR-CALDESC:Veranstaltungen für Grandbaleeser 2020
REFRESH-INTERVAL;VALUE=DURATION:PT1H
X-Robots-Tag:noindex
X-PUBLISHED-TTL:PT1H
BEGIN:VTIMEZONE
TZID:Europe/Paris
BEGIN:DAYLIGHT
TZOFFSETFROM:+0100
TZOFFSETTO:+0200
TZNAME:CEST
DTSTART:20240331T010000
END:DAYLIGHT
BEGIN:STANDARD
TZOFFSETFROM:+0200
TZOFFSETTO:+0100
TZNAME:CET
DTSTART:20241027T010000
END:STANDARD
BEGIN:DAYLIGHT
TZOFFSETFROM:+0100
TZOFFSETTO:+0200
TZNAME:CEST
DTSTART:20250330T010000
END:DAYLIGHT
BEGIN:STANDARD
TZOFFSETFROM:+0200
TZOFFSETTO:+0100
TZNAME:CET
DTSTART:20251026T010000
END:STANDARD
BEGIN:DAYLIGHT
TZOFFSETFROM:+0100
TZOFFSETTO:+0200
TZNAME:CEST
DTSTART:20260329T010000
END:DAYLIGHT
BEGIN:STANDARD
TZOFFSETFROM:+0200
TZOFFSETTO:+0100
TZNAME:CET
DTSTART:20261025T010000
END:STANDARD
END:VTIMEZONE
BEGIN:VEVENT
DTSTART;TZID=Europe/Paris:20250901T180000
DTEND;TZID=Europe/Paris:20250901T220000
DTSTAMP:20260424T141356
CREATED:20250821T141211Z
LAST-MODIFIED:20250821T141211Z
UID:4155-1756749600-1756764000@www.grandbaleeser.ch
SUMMARY:Belegt DiNi
DESCRIPTION:
URL:https://www.grandbaleeser.ch/event/belegt-dini/
LOCATION:Glyggekäller\, Spalebärg 58\, Basel\, Basel-Stadt\, 4051\, Schweiz
CATEGORIES:Keller,Vermietung
END:VEVENT
BEGIN:VEVENT
DTSTART;TZID=Europe/Paris:20250902T190000
DTEND;TZID=Europe/Paris:20250902T220000
DTSTAMP:20260424T141356
CREATED:20250821T141302Z
LAST-MODIFIED:20250821T141302Z
UID:4157-1756839600-1756850400@www.grandbaleeser.ch
SUMMARY:Belegt Rumpelsuuri
DESCRIPTION:
URL:https://www.grandbaleeser.ch/event/belegt-rumpelsuuri/
LOCATION:Glyggekäller\, Spalebärg 58\, Basel\, Basel-Stadt\, 4051\, Schweiz
CATEGORIES:Keller,Vermietung
END:VEVENT
BEGIN:VEVENT
DTSTART;TZID=Europe/Paris:20250904T190000
DTEND;TZID=Europe/Paris:20250904T220000
DTSTAMP:20260424T141356
CREATED:20250821T141351Z
LAST-MODIFIED:20250821T141351Z
UID:4159-1757012400-1757023200@www.grandbaleeser.ch
SUMMARY:Belegt GB Dambuure
DESCRIPTION:
URL:https://www.grandbaleeser.ch/event/belegt-gb-dambuure/
LOCATION:Glyggekäller\, Spalebärg 58\, Basel\, Basel-Stadt\, 4051\, Schweiz
CATEGORIES:Grandbaleeser,Keller
END:VEVENT
BEGIN:VEVENT
DTSTART;TZID=Europe/Paris:20250908T180000
DTEND;TZID=Europe/Paris:20250908T220000
DTSTAMP:20260424T141356
CREATED:20250821T141508Z
LAST-MODIFIED:20250821T141508Z
UID:4161-1757354400-1757368800@www.grandbaleeser.ch
SUMMARY:Belegt DiNi
DESCRIPTION:
URL:https://www.grandbaleeser.ch/event/belegt-dini-2/
LOCATION:Glyggekäller\, Spalebärg 58\, Basel\, Basel-Stadt\, 4051\, Schweiz
CATEGORIES:Keller,Vermietung
END:VEVENT
BEGIN:VEVENT
DTSTART;TZID=Europe/Paris:20250909T190000
DTEND;TZID=Europe/Paris:20250909T220000
DTSTAMP:20260424T141356
CREATED:20250821T141559Z
LAST-MODIFIED:20250821T141559Z
UID:4163-1757444400-1757455200@www.grandbaleeser.ch
SUMMARY:Belegt Rumpelsuuri
DESCRIPTION:
URL:https://www.grandbaleeser.ch/event/belegt-rumpelsuuri-2/
LOCATION:Glyggekäller\, Spalebärg 58\, Basel\, Basel-Stadt\, 4051\, Schweiz
CATEGORIES:Keller,Vermietung
END:VEVENT
BEGIN:VEVENT
DTSTART;TZID=Europe/Paris:20250911T190000
DTEND;TZID=Europe/Paris:20250911T223000
DTSTAMP:20260424T141356
CREATED:20250821T141648Z
LAST-MODIFIED:20250821T141648Z
UID:4165-1757617200-1757629800@www.grandbaleeser.ch
SUMMARY:Belegt GB Dambuur
DESCRIPTION:
URL:https://www.grandbaleeser.ch/event/belegt-gb-dambuur/
LOCATION:Glyggekäller\, Spalebärg 58\, Basel\, Basel-Stadt\, 4051\, Schweiz
CATEGORIES:Grandbaleeser,Keller
END:VEVENT
BEGIN:VEVENT
DTSTART;TZID=Europe/Paris:20250913T140000
DTEND;TZID=Europe/Paris:20250913T200000
DTSTAMP:20260424T141356
CREATED:20250716T050809Z
LAST-MODIFIED:20250821T144739Z
UID:4103-1757772000-1757793600@www.grandbaleeser.ch
SUMMARY:Belegt Neuer Basler Kammerchor
DESCRIPTION:
URL:https://www.grandbaleeser.ch/event/belegt-60/
LOCATION:Glyggekäller\, Spalebärg 58\, Basel\, Basel-Stadt\, 4051\, Schweiz
CATEGORIES:Keller,Vermietung
END:VEVENT
BEGIN:VEVENT
DTSTART;TZID=Europe/Paris:20250915T180000
DTEND;TZID=Europe/Paris:20250915T230000
DTSTAMP:20260424T141356
CREATED:20250821T144524Z
LAST-MODIFIED:20250821T144524Z
UID:4192-1757959200-1757977200@www.grandbaleeser.ch
SUMMARY:Belegt Eigenbedarf
DESCRIPTION:
URL:https://www.grandbaleeser.ch/event/belegt-eigenbedarf/
LOCATION:Glyggekäller\, Spalebärg 58\, Basel\, Basel-Stadt\, 4051\, Schweiz
CATEGORIES:Grandbaleeser,Keller
END:VEVENT
BEGIN:VEVENT
DTSTART;TZID=Europe/Paris:20250916T190000
DTEND;TZID=Europe/Paris:20250916T220000
DTSTAMP:20260424T141356
CREATED:20250821T142103Z
LAST-MODIFIED:20250821T142103Z
UID:4167-1758049200-1758060000@www.grandbaleeser.ch
SUMMARY:Belegt Rumpelsuuri
DESCRIPTION:
URL:https://www.grandbaleeser.ch/event/belegt-rumpelsuuri-3/
LOCATION:Glyggekäller\, Spalebärg 58\, Basel\, Basel-Stadt\, 4051\, Schweiz
CATEGORIES:Keller,Vermietung
END:VEVENT
BEGIN:VEVENT
DTSTART;TZID=Europe/Paris:20250918T190000
DTEND;TZID=Europe/Paris:20250918T223000
DTSTAMP:20260424T141356
CREATED:20250821T142215Z
LAST-MODIFIED:20250821T142215Z
UID:4169-1758222000-1758234600@www.grandbaleeser.ch
SUMMARY:Belegt GB Dambuure
DESCRIPTION:
URL:https://www.grandbaleeser.ch/event/belegt-gb-dambuure-2/
LOCATION:Glyggekäller\, Spalebärg 58\, Basel\, Basel-Stadt\, 4051\, Schweiz
CATEGORIES:Grandbaleeser,Keller
END:VEVENT
BEGIN:VEVENT
DTSTART;TZID=Europe/Paris:20250922T180000
DTEND;TZID=Europe/Paris:20250922T220000
DTSTAMP:20260424T141356
CREATED:20250821T142342Z
LAST-MODIFIED:20250821T142342Z
UID:4171-1758564000-1758578400@www.grandbaleeser.ch
SUMMARY:Belegt DiNi
DESCRIPTION:
URL:https://www.grandbaleeser.ch/event/belegt-dini-3/
LOCATION:Glyggekäller\, Spalebärg 58\, Basel\, Basel-Stadt\, 4051\, Schweiz
CATEGORIES:Keller,Vermietung
END:VEVENT
BEGIN:VEVENT
DTSTART;TZID=Europe/Paris:20250923T190000
DTEND;TZID=Europe/Paris:20250923T220000
DTSTAMP:20260424T141356
CREATED:20250821T142427Z
LAST-MODIFIED:20250821T142427Z
UID:4173-1758654000-1758664800@www.grandbaleeser.ch
SUMMARY:Belegt Rumpelsuuri
DESCRIPTION:
URL:https://www.grandbaleeser.ch/event/belegt-rumpelsuuri-4/
LOCATION:Glyggekäller\, Spalebärg 58\, Basel\, Basel-Stadt\, 4051\, Schweiz
CATEGORIES:Keller,Vermietung
END:VEVENT
BEGIN:VEVENT
DTSTART;TZID=Europe/Paris:20250925T190000
DTEND;TZID=Europe/Paris:20250925T210000
DTSTAMP:20260424T141356
CREATED:20250821T142631Z
LAST-MODIFIED:20250821T142631Z
UID:4176-1758826800-1758834000@www.grandbaleeser.ch
SUMMARY:Belegt GB Dambuure
DESCRIPTION:
URL:https://www.grandbaleeser.ch/event/belegt-gb-dambuure-3/
LOCATION:Glyggekäller\, Spalebärg 58\, Basel\, Basel-Stadt\, 4051\, Schweiz
CATEGORIES:Grandbaleeser,Keller
END:VEVENT
BEGIN:VEVENT
DTSTART;TZID=Europe/Paris:20250925T210000
DTEND;TZID=Europe/Paris:20250925T230000
DTSTAMP:20260424T141356
CREATED:20250608T084634Z
LAST-MODIFIED:20250821T142545Z
UID:4063-1758834000-1758841200@www.grandbaleeser.ch
SUMMARY:Belegt / Hock
DESCRIPTION:
URL:https://www.grandbaleeser.ch/event/belegt-hock-3/
LOCATION:Glyggekäller\, Spalebärg 58\, Basel\, Basel-Stadt\, 4051\, Schweiz
CATEGORIES:Grandbaleeser,Keller
END:VEVENT
BEGIN:VEVENT
DTSTART;TZID=Europe/Paris:20250926T180000
DTEND;TZID=Europe/Paris:20250926T220000
DTSTAMP:20260424T141356
CREATED:20250527T131915Z
LAST-MODIFIED:20250821T142724Z
UID:4029-1758909600-1758924000@www.grandbaleeser.ch
SUMMARY:Belegt Escalade
DESCRIPTION:
URL:https://www.grandbaleeser.ch/event/belegt-53/
LOCATION:Glyggekäller\, Spalebärg 58\, Basel\, Basel-Stadt\, 4051\, Schweiz
CATEGORIES:Keller,Vermietung
END:VEVENT
BEGIN:VEVENT
DTSTART;TZID=Europe/Paris:20250929T180000
DTEND;TZID=Europe/Paris:20250929T220000
DTSTAMP:20260424T141356
CREATED:20250821T142816Z
LAST-MODIFIED:20250821T142816Z
UID:4179-1759168800-1759183200@www.grandbaleeser.ch
SUMMARY:Belegt DiNi
DESCRIPTION:
URL:https://www.grandbaleeser.ch/event/belegt-dini-4/
LOCATION:Glyggekäller\, Spalebärg 58\, Basel\, Basel-Stadt\, 4051\, Schweiz
CATEGORIES:Keller,Vermietung
END:VEVENT
BEGIN:VEVENT
DTSTART;TZID=Europe/Paris:20250930T190000
DTEND;TZID=Europe/Paris:20250930T220000
DTSTAMP:20260424T141356
CREATED:20250821T142904Z
LAST-MODIFIED:20250821T143157Z
UID:4181-1759258800-1759269600@www.grandbaleeser.ch
SUMMARY:Belegt Rumpelsuuri
DESCRIPTION:
URL:https://www.grandbaleeser.ch/event/belegt-rumeplsuuri/
LOCATION:Glyggekäller\, Spalebärg 58\, Basel\, Basel-Stadt\, 4051\, Schweiz
CATEGORIES:Keller,Vermietung
END:VEVENT
END:VCALENDAR